BEGIN:VCALENDAR
VERSION:2.0
PRODID:-//Melodic Motion - ECPv6.7.1//NONSGML v1.0//EN
CALSCALE:GREGORIAN
METHOD:PUBLISH
X-ORIGINAL-URL:https://melodic-motion.dance
X-WR-CALDESC:Évènements pour Melodic Motion
REFRESH-INTERVAL;VALUE=DURATION:PT1H
X-Robots-Tag:noindex
X-PUBLISHED-TTL:PT1H
BEGIN:VTIMEZONE
TZID:Europe/Paris
BEGIN:DAYLIGHT
TZOFFSETFROM:+0100
TZOFFSETTO:+0200
TZNAME:CEST
DTSTART:20250330T010000
END:DAYLIGHT
BEGIN:STANDARD
TZOFFSETFROM:+0200
TZOFFSETTO:+0100
TZNAME:CET
DTSTART:20251026T010000
END:STANDARD
END:VTIMEZONE
BEGIN:VEVENT
DTSTART;TZID=Europe/Paris:20250404T193000
DTEND;TZID=Europe/Paris:20250404T210000
DTSTAMP:20260423T001435
CREATED:20250212T202345Z
LAST-MODIFIED:20250317T163732Z
UID:414-1743795000-1743800400@melodic-motion.dance
SUMMARY:✨ Atelier West Coast Swing : Choré-Impro 🎶 ✨
DESCRIPTION:🕺💃 Envie d’exprimer ta créativité sur la piste ? Viens participer à notre atelier choré-impro dédié aux danseurs inter/avancés et plus ! \n📅 Quand ? Vendredi 4 Avril de 19h30 à 21h\n📍 Où ? 7 places des fêtes\, Colomiers\, 31770 France\n👥 En duo avec ton/ta partenaire \n🔹 Le concept ? Crée ta propre chorégraphie sur une musique courte\, avec l’aide de nos professeurs !\n🔹 Au programme : Exploration de la musicalité\, des accents rythmiques\, et des passes originales pour enrichir ta danse 🎶\n🔹 Un accompagnement sur-mesure pour booster ton inspiration avec des indices et des suggestions adaptées \n🎟️ Inscription en duo obligatoire\n3 ans de pratique du West Coast Swing recommandés\nRéserve vite ta place ci-dessous !\nAtelier à 15€ par personne \n📢 Prêt(e) à relever le défi ? 🔥 \nL’atelier sera suivi d’une pratique dansante
URL:https://melodic-motion.dance/index.php/event/atelier-west-coast-swing-chore-impro/
LOCATION:Fédération Associative Columérine\, 7 places des fêtes\, Colomiers\, 31770\, France
CATEGORIES:Melodic-Motion
ATTACH;FMTTYPE=image/png:https://melodic-motion.dance/wp-content/uploads/2025/02/affiche_4_avril_pays.png
END:VEVENT
BEGIN:VEVENT
DTSTART;TZID=Europe/Paris:20250404T210000
DTEND;TZID=Europe/Paris:20250404T230000
DTSTAMP:20260423T001435
CREATED:20250212T174744Z
LAST-MODIFIED:20250212T174744Z
UID:408-1743800400-1743807600@melodic-motion.dance
SUMMARY:Pratique Dansante West Coast Swing
DESCRIPTION:✨ Pratique Dansante de West Coast Swing – Tous niveaux bienvenus ! ✨ \nVous avez envie de pratiquer le West Coast Swing dans une ambiance conviviale et bienveillante ? Que vous soyez débutant(e) ou déjà à l’aise sur la piste\, cette pratique est faite pour vous ! 💃🕺 \n✨ Pratique spécialement conçue pour la créativité ! C’est l’occasion idéale pour laisser parler votre inspiration dans une ambiance bienveillante. ✨ \n🔹 Au programme : \n    Une playlist spécialement conçue pour s’amuser 🤩\n    Atelier pour vous échauffer juste avant📝\n    Deux professeurs présents pour danser avec vous et répondre à toutes vos questions 🎶 \nÀ très vite sur la piste ! 👟✨ \nEntrée libre pour les adhérents Rêves de danse\, 12€ l’adhésion pour la saison (environ une soirée par mois jusqu’en juin) \n#WestCoastSwing #PratiqueDansante #Creativite #Danse #SoiréeFun \n\nN’oubliez pas de vous inscrire ci-dessous dans votre rôle principal
URL:https://melodic-motion.dance/index.php/event/pratique-dansante-west-coast-swing-3/
LOCATION:Fédération Associative Columérine\, 7 places des fêtes\, Colomiers\, 31770\, France
CATEGORIES:Melodic-Motion
ATTACH;FMTTYPE=image/png:https://melodic-motion.dance/wp-content/uploads/2025/02/4avril_pratique.png
END:VEVENT
END:VCALENDAR