BEGIN:VCALENDAR
VERSION:2.0
PRODID:-//Melodic Motion - ECPv6.7.1//NONSGML v1.0//EN
CALSCALE:GREGORIAN
METHOD:PUBLISH
X-WR-CALNAME:Melodic Motion
X-ORIGINAL-URL:https://melodic-motion.dance
X-WR-CALDESC:Évènements pour Melodic Motion
REFRESH-INTERVAL;VALUE=DURATION:PT1H
X-Robots-Tag:noindex
X-PUBLISHED-TTL:PT1H
BEGIN:VTIMEZONE
TZID:Europe/Paris
BEGIN:DAYLIGHT
TZOFFSETFROM:+0100
TZOFFSETTO:+0200
TZNAME:CEST
DTSTART:20260329T010000
END:DAYLIGHT
BEGIN:STANDARD
TZOFFSETFROM:+0200
TZOFFSETTO:+0100
TZNAME:CET
DTSTART:20261025T010000
END:STANDARD
END:VTIMEZONE
BEGIN:VEVENT
DTSTART;TZID=Europe/Paris:20260220T193000
DTEND;TZID=Europe/Paris:20260220T210000
DTSTAMP:20260420T063531
CREATED:20260107T165121Z
LAST-MODIFIED:20260128T161019Z
UID:890-1771615800-1771621200@melodic-motion.dance
SUMMARY:Atelier de West Coast Swing : Des tours et détours
DESCRIPTION:🎶 Atelier de West Coast Swing : Des tours et détours ! 💃🕺 \nFollower\, venez apprendre les techniques pour contrôler et maîtriser vos tours ! 🙌\nLeader\, et si vous ajoutiez des tours à votre danse ?  \n👉 Quand ? Le vendredi 20 février\, de 19h30 à 21h\n👉 Où ? Espace Lucien-Blazy\, 7 places des fêtes\, Colomiers\, 31770 France\n👉 Prix ? 15€ par personne \n✨ Au programme : \n    Techniques et astuces pour maîtriser les tours déboulé en West Coast Swing\, contrôler ses tours et son équilibre\n    Comment les leaders peuvent aussi se mettre en avant avec des tours\n    Une ambiance conviviale pour apprendre et s’amuser ! \nEt ce n’est pas tout ! 🎉 Après l’atelier\, rejoignez-nous pour une pratique ouverte à tous\, où vous pourrez mettre en application ce que vous avez appris. \n📩 Réservez votre place dès maintenant ci-dessous ou contactez-nous pour plus d’informations. \nPartagez cet événement avec vos amis danseurs et venez swinguer avec nous ! 🕺💃
URL:https://melodic-motion.dance/index.php/event/atelier-de-west-coast-swing-des-tours-et-detours/
LOCATION:Fédération Associative Columérine\, 7 places des fêtes\, Colomiers\, 31770\, France
CATEGORIES:Melodic-Motion
ATTACH;FMTTYPE=image/png:https://melodic-motion.dance/wp-content/uploads/2026/01/atelier_20_fevrier.png
END:VEVENT
BEGIN:VEVENT
DTSTART;TZID=Europe/Paris:20260220T210000
DTEND;TZID=Europe/Paris:20260220T230000
DTSTAMP:20260420T063531
CREATED:20260111T165145Z
LAST-MODIFIED:20260111T165738Z
UID:934-1771621200-1771628400@melodic-motion.dance
SUMMARY:Pratique Dansante West Coast Swing
DESCRIPTION:✨ Pratique Dansante de West Coast Swing – Tous niveaux bienvenus ! ✨ \nVous avez envie de pratiquer le West Coast Swing dans une ambiance conviviale et bienveillante ? Que vous soyez débutant ou déjà à l’aise sur la piste\, cette pratique est faite pour vous ! 💃🕺 \nLa pratique dansante\, c’est comme une soirée avec le choix de danser pour s’amuser ou bien de réviser ses cours avec d’autres danseurs.\nÀ très vite sur la piste ! 👟✨ \n#WestCoastSwing #PratiqueDansante #DébutantsBienvenus #Danse #SoiréeFun
URL:https://melodic-motion.dance/index.php/event/pratique-dansante-west-coast-swing-11/
LOCATION:Fédération Associative Columérine\, 7 places des fêtes\, Colomiers\, 31770\, France
CATEGORIES:Melodic-Motion
ATTACH;FMTTYPE=image/png:https://melodic-motion.dance/wp-content/uploads/2026/01/20_fevrier.png
END:VEVENT
END:VCALENDAR