BEGIN:VCALENDAR
VERSION:2.0
PRODID:-//Melodic Motion - ECPv6.7.1//NONSGML v1.0//EN
CALSCALE:GREGORIAN
METHOD:PUBLISH
X-ORIGINAL-URL:https://melodic-motion.dance
X-WR-CALDESC:Évènements pour Melodic Motion
REFRESH-INTERVAL;VALUE=DURATION:PT1H
X-Robots-Tag:noindex
X-PUBLISHED-TTL:PT1H
BEGIN:VTIMEZONE
TZID:Europe/Paris
BEGIN:DAYLIGHT
TZOFFSETFROM:+0100
TZOFFSETTO:+0200
TZNAME:CEST
DTSTART:20260329T010000
END:DAYLIGHT
BEGIN:STANDARD
TZOFFSETFROM:+0200
TZOFFSETTO:+0100
TZNAME:CET
DTSTART:20261025T010000
END:STANDARD
END:VTIMEZONE
BEGIN:VEVENT
DTSTART;TZID=Europe/Paris:20260227T200000
DTEND;TZID=Europe/Paris:20260227T230000
DTSTAMP:20260420T045154
CREATED:20260111T095424Z
LAST-MODIFIED:20260111T095429Z
UID:900-1772222400-1772233200@melodic-motion.dance
SUMMARY:Pratique Dansante West Coast Swing
DESCRIPTION:✨ Pratique Dansante de West Coast Swing – Tous niveaux bienvenus ! ✨ \nVous avez envie de pratiquer le West Coast Swing dans une ambiance conviviale et bienveillante ? Que vous soyez débutant ou déjà à l’aise sur la piste\, cette pratique est faite pour vous ! 💃🕺 \nLa pratique dansante\, c’est comme une soirée avec le choix de danser pour s’amuser ou bien de réviser ses cours avec d’autres danseurs.\nÀ très vite sur la piste ! 👟✨ \n#WestCoastSwing #PratiqueDansante #DébutantsBienvenus #Danse #SoiréeFun
URL:https://melodic-motion.dance/index.php/event/pratique-dansante-west-coast-swing-5/
LOCATION:Fédération Associative Columérine\, 7 places des fêtes\, Colomiers\, 31770\, France
CATEGORIES:Melodic-Motion
ATTACH;FMTTYPE=image/png:https://melodic-motion.dance/wp-content/uploads/2026/01/27_fevrier.png
END:VEVENT
END:VCALENDAR