BEGIN:VCALENDAR
VERSION:2.0
PRODID:-//Melodic Motion - ECPv6.7.1//NONSGML v1.0//EN
CALSCALE:GREGORIAN
METHOD:PUBLISH
X-WR-CALNAME:Melodic Motion
X-ORIGINAL-URL:https://melodic-motion.dance
X-WR-CALDESC:Évènements pour Melodic Motion
REFRESH-INTERVAL;VALUE=DURATION:PT1H
X-Robots-Tag:noindex
X-PUBLISHED-TTL:PT1H
BEGIN:VTIMEZONE
TZID:Europe/Paris
BEGIN:DAYLIGHT
TZOFFSETFROM:+0100
TZOFFSETTO:+0200
TZNAME:CEST
DTSTART:20260329T010000
END:DAYLIGHT
BEGIN:STANDARD
TZOFFSETFROM:+0200
TZOFFSETTO:+0100
TZNAME:CET
DTSTART:20261025T010000
END:STANDARD
END:VTIMEZONE
BEGIN:VEVENT
DTSTART;TZID=Europe/Paris:20260417T193000
DTEND;TZID=Europe/Paris:20260417T200000
DTSTAMP:20260420T025522
CREATED:20260111T143606Z
LAST-MODIFIED:20260128T161238Z
UID:923-1776454200-1776456000@melodic-motion.dance
SUMMARY:Atelier : Créer de l'espace dans sa danse
DESCRIPTION:🎶 Atelier de West Coast Swing : Créer de l’espace dans sa danse ! 💃🕺 \nLe West Coast Swing est une danse d’improvisation qui nécessite de l’écoute entre les partenaires pour créer des mouvements à deux. Venez découvrir dans cet atelier comment créer de l’espace dans votre danse pour offrir des opportunités à la créativité. \n👉 Quand ? Le vendredi 17 avril\, de 19h30 à 21h\n👉 Où ? Espace Lucien-Blazy\, 7 places des fêtes\, Colomiers\, 31770 France\n👉 Prix ? 15€ par personne \n✨ Au programme : \n    Comment mieux guider pour offrir plus d’espace à l’imprévisible\n    Comment utiliser l’espace pour laisser sa danse s’exprimer \nEt ce n’est pas tout ! 🎉 Après l’atelier\, rejoignez-nous pour une pratique ouverte à tous\, où vous pourrez mettre en application ce que vous avez appris. \n📩 Réservez votre place dès maintenant ci-dessous ou contactez-nous pour plus d’informations. \nPartagez cet événement avec vos amis danseurs et venez swinguer avec nous ! 🕺💃
URL:https://melodic-motion.dance/index.php/event/atelier-creer-de-lespace-dans-sa-danse/
CATEGORIES:Melodic-Motion
ATTACH;FMTTYPE=image/png:https://melodic-motion.dance/wp-content/uploads/2026/01/atelier_17_avril.png
END:VEVENT
BEGIN:VEVENT
DTSTART;TZID=Europe/Paris:20260417T210000
DTEND;TZID=Europe/Paris:20260417T230000
DTSTAMP:20260420T025522
CREATED:20260111T170028Z
LAST-MODIFIED:20260111T170028Z
UID:941-1776459600-1776466800@melodic-motion.dance
SUMMARY:Pratique Dansante West Coast Swing
DESCRIPTION:✨ Pratique Dansante de West Coast Swing – Tous niveaux bienvenus ! ✨ \nVous avez envie de pratiquer le West Coast Swing dans une ambiance conviviale et bienveillante ? Que vous soyez débutant ou déjà à l’aise sur la piste\, cette pratique est faite pour vous ! 💃🕺 \nLa pratique dansante\, c’est comme une soirée avec le choix de danser pour s’amuser ou bien de réviser ses cours avec d’autres danseurs.\nÀ très vite sur la piste ! 👟✨ \n#WestCoastSwing #PratiqueDansante #DébutantsBienvenus #Danse #SoiréeFun
URL:https://melodic-motion.dance/index.php/event/pratique-dansante-west-coast-swing-13/
LOCATION:Fédération Associative Columérine\, 7 places des fêtes\, Colomiers\, 31770\, France
CATEGORIES:Melodic-Motion
ATTACH;FMTTYPE=image/png:https://melodic-motion.dance/wp-content/uploads/2026/01/17_avril.png
END:VEVENT
END:VCALENDAR