BEGIN:VCALENDAR
VERSION:2.0
PRODID:-//Melodic Motion - ECPv6.7.1//NONSGML v1.0//EN
CALSCALE:GREGORIAN
METHOD:PUBLISH
X-ORIGINAL-URL:https://melodic-motion.dance
X-WR-CALDESC:Évènements pour Melodic Motion
REFRESH-INTERVAL;VALUE=DURATION:PT1H
X-Robots-Tag:noindex
X-PUBLISHED-TTL:PT1H
BEGIN:VTIMEZONE
TZID:Europe/Paris
BEGIN:DAYLIGHT
TZOFFSETFROM:+0100
TZOFFSETTO:+0200
TZNAME:CEST
DTSTART:20260329T010000
END:DAYLIGHT
BEGIN:STANDARD
TZOFFSETFROM:+0200
TZOFFSETTO:+0100
TZNAME:CET
DTSTART:20261025T010000
END:STANDARD
END:VTIMEZONE
BEGIN:VEVENT
DTSTART;TZID=Europe/Paris:20260602T200000
DTEND;TZID=Europe/Paris:20260602T220000
DTSTAMP:20260420T064013
CREATED:20260401T150138Z
LAST-MODIFIED:20260401T183528Z
UID:1144-1780430400-1780437600@melodic-motion.dance
SUMMARY:Module WCS "Spectacle de fin d'année"
DESCRIPTION:✨ Envie de monter sur scène et de vivre une expérience unique ? ✨ \nRejoignez-nous pour un module chorégraphique en West Coast Swing et préparez un véritable mini spectacle de fin d’année pour la soirée de l’association Rêve de Danse 💃🕺 \n🎯 Au programme : \nApprentissage d’une chorégraphie accessible dès 8 mois de pratique\n2 sessions d’entraînement de 2h :\n📅 Mardi 2 juin & mardi 9 juin — 20h à 22h \n🎉 Représentation finale en public : samedi 13 juin \n👯 Inscription en duo obligatoire\n💰 Tarif : 30€ par personne\, paiement sur place en chèque ou espèces \n🔥 Une super occasion de progresser\, partager et briller sur scène dans une ambiance conviviale ! \n➡️ Prêts à relever le défi ? Rejoignez-nous !
URL:https://melodic-motion.dance/index.php/event/module-wcs-spectacle-de-fin-dannee/
LOCATION:Salle Saphir\, 11 Chemin de Bordeblanques\, Colomiers\, 31770
CATEGORIES:Melodic-Motion
ATTACH;FMTTYPE=image/png:https://melodic-motion.dance/wp-content/uploads/2026/04/affiche-2026_chore-1.png
END:VEVENT
END:VCALENDAR