BEGIN:VCALENDAR
VERSION:2.0
PRODID:-//Melodic Motion - ECPv6.7.1//NONSGML v1.0//EN
CALSCALE:GREGORIAN
METHOD:PUBLISH
X-WR-CALNAME:Melodic Motion
X-ORIGINAL-URL:https://melodic-motion.dance
X-WR-CALDESC:Évènements pour Melodic Motion
REFRESH-INTERVAL;VALUE=DURATION:PT1H
X-Robots-Tag:noindex
X-PUBLISHED-TTL:PT1H
BEGIN:VTIMEZONE
TZID:Europe/Paris
BEGIN:DAYLIGHT
TZOFFSETFROM:+0100
TZOFFSETTO:+0200
TZNAME:CEST
DTSTART:20250330T010000
END:DAYLIGHT
BEGIN:STANDARD
TZOFFSETFROM:+0200
TZOFFSETTO:+0100
TZNAME:CET
DTSTART:20251026T010000
END:STANDARD
END:VTIMEZONE
BEGIN:VEVENT
DTSTART;TZID=Europe/Paris:20251219T200000
DTEND;TZID=Europe/Paris:20251219T220000
DTSTAMP:20260420T065354
CREATED:20251203T093707Z
LAST-MODIFIED:20260111T100212Z
UID:809-1766174400-1766181600@melodic-motion.dance
SUMMARY:Pratique Dansante West Coast Swing
DESCRIPTION:✨ Pratique Dansante de West Coast Swing – Tous niveaux bienvenus ! ✨ \nVous avez envie de pratiquer le West Coast Swing dans une ambiance conviviale et bienveillante ? Que vous soyez débutant(e) ou déjà à l’aise sur la piste\, cette pratique est faite pour vous ! 💃🕺 \n✨ Pratique spécialement conçue pour les débutants qui ont commencé en septembre ! C’est l’occasion idéale pour renforcer vos acquis et progresser dans une ambiance bienveillante. ✨ \n🔹 Au programme :\nUne playlist spécialement conçue pour Noël 🤩\nDeux professeurs présents pour danser avec vous et répondre à toutes vos questions 🎶\nAccessoires de Noël bienvenus🎄 \nÀ très vite sur la piste ! 👟✨ \nInscriptions ci-dessous
URL:https://melodic-motion.dance/index.php/event/pratique-dansante-west-coast-swing-noel-2025/
CATEGORIES:Melodic-Motion
ATTACH;FMTTYPE=image/png:https://melodic-motion.dance/wp-content/uploads/2025/12/19_decembre_noel.png
END:VEVENT
END:VCALENDAR