BEGIN:VCALENDAR
VERSION:2.0
PRODID:-//Melodic Motion - ECPv6.7.1//NONSGML v1.0//EN
CALSCALE:GREGORIAN
METHOD:PUBLISH
X-WR-CALNAME:Melodic Motion
X-ORIGINAL-URL:https://melodic-motion.dance
X-WR-CALDESC:Évènements pour Melodic Motion
REFRESH-INTERVAL;VALUE=DURATION:PT1H
X-Robots-Tag:noindex
X-PUBLISHED-TTL:PT1H
BEGIN:VTIMEZONE
TZID:Europe/Paris
BEGIN:DAYLIGHT
TZOFFSETFROM:+0100
TZOFFSETTO:+0200
TZNAME:CEST
DTSTART:20250330T010000
END:DAYLIGHT
BEGIN:STANDARD
TZOFFSETFROM:+0200
TZOFFSETTO:+0100
TZNAME:CET
DTSTART:20251026T010000
END:STANDARD
END:VTIMEZONE
BEGIN:VEVENT
DTSTART;TZID=Europe/Paris:20250909T195000
DTEND;TZID=Europe/Paris:20250909T215000
DTSTAMP:20260420T135517
CREATED:20250811T144542Z
LAST-MODIFIED:20250811T144556Z
UID:615-1757447400-1757454600@melodic-motion.dance
SUMMARY:Premier cours de la Saison 2025-2026
DESCRIPTION:La reprise des cours de West Coast Swing se fera le mardi 9 septembre 2025 avec l’association Rêve de Danse à Colomiers\, Salle Saphir\, 11 Chemin de Bordeblanque. Toutes les informations pratiques sont sur le site de l’association : Infos pratiques \nLe premier cours d’essai est gratuit \nCours Intermédiaire (2ème année de WCS)\n19h50-20h50 \nCours Débutant\n20h50-21h50 \nVous pouvez dès maintenant réserver votre place en vous pré-inscrivant ci-dessous :\nJe m’inscrit !
URL:https://melodic-motion.dance/index.php/event/premier-cours-de-la-saison-2025-2026/
LOCATION:Salle Saphir\, 11 Chemin de Bordeblanques\, Colomiers\, 31770
CATEGORIES:Melodic-Motion
ATTACH;FMTTYPE=image/png:https://melodic-motion.dance/wp-content/uploads/2025/08/Cours_annee.png
END:VEVENT
END:VCALENDAR