BEGIN:VCALENDAR
VERSION:2.0
PRODID:-//Melodic Motion - ECPv6.7.1//NONSGML v1.0//EN
CALSCALE:GREGORIAN
METHOD:PUBLISH
X-ORIGINAL-URL:https://melodic-motion.dance
X-WR-CALDESC:Évènements pour Melodic Motion
REFRESH-INTERVAL;VALUE=DURATION:PT1H
X-Robots-Tag:noindex
X-PUBLISHED-TTL:PT1H
BEGIN:VTIMEZONE
TZID:Europe/Paris
BEGIN:DAYLIGHT
TZOFFSETFROM:+0100
TZOFFSETTO:+0200
TZNAME:CEST
DTSTART:20260329T010000
END:DAYLIGHT
BEGIN:STANDARD
TZOFFSETFROM:+0200
TZOFFSETTO:+0100
TZNAME:CET
DTSTART:20261025T010000
END:STANDARD
END:VTIMEZONE
BEGIN:VEVENT
DTSTART;TZID=Europe/Paris:20260424T200000
DTEND;TZID=Europe/Paris:20260424T230000
DTSTAMP:20260419T233901
CREATED:20260111T095842Z
LAST-MODIFIED:20260111T100341Z
UID:906-1777060800-1777071600@melodic-motion.dance
SUMMARY:Pratique Dansante West Coast Swing
DESCRIPTION:✨ Pratique Dansante de West Coast Swing – Tous niveaux bienvenus ! ✨ \nVous avez envie de pratiquer le West Coast Swing dans une ambiance conviviale et bienveillante ? Que vous soyez débutant ou déjà à l’aise sur la piste\, cette pratique est faite pour vous ! 💃🕺 \nLa pratique dansante\, c’est comme une soirée avec le choix de danser pour s’amuser ou bien de réviser ses cours avec d’autres danseurs.\nÀ très vite sur la piste ! 👟✨ \n#WestCoastSwing #PratiqueDansante #DébutantsBienvenus #Danse #SoiréeFun
URL:https://melodic-motion.dance/index.php/event/pratique-dansante-west-coast-swing-7/
LOCATION:Fédération Associative Columérine\, 7 places des fêtes\, Colomiers\, 31770\, France
CATEGORIES:Melodic-Motion
ATTACH;FMTTYPE=image/png:https://melodic-motion.dance/wp-content/uploads/2026/01/24_avril.png
END:VEVENT
BEGIN:VEVENT
DTSTART;TZID=Europe/Paris:20260515T200000
DTEND;TZID=Europe/Paris:20260515T230000
DTSTAMP:20260419T233901
CREATED:20260111T095957Z
LAST-MODIFIED:20260111T100341Z
UID:909-1778875200-1778886000@melodic-motion.dance
SUMMARY:Pratique Dansante West Coast Swing
DESCRIPTION:✨ Pratique Dansante de West Coast Swing – Tous niveaux bienvenus ! ✨ \nVous avez envie de pratiquer le West Coast Swing dans une ambiance conviviale et bienveillante ? Que vous soyez débutant ou déjà à l’aise sur la piste\, cette pratique est faite pour vous ! 💃🕺 \nLa pratique dansante\, c’est comme une soirée avec le choix de danser pour s’amuser ou bien de réviser ses cours avec d’autres danseurs.\nÀ très vite sur la piste ! 👟✨ \n#WestCoastSwing #PratiqueDansante #DébutantsBienvenus #Danse #SoiréeFun
URL:https://melodic-motion.dance/index.php/event/pratique-dansante-west-coast-swing-8/
LOCATION:Fédération Associative Columérine\, 7 places des fêtes\, Colomiers\, 31770\, France
CATEGORIES:Melodic-Motion
ATTACH;FMTTYPE=image/png:https://melodic-motion.dance/wp-content/uploads/2026/01/15_mai.png
END:VEVENT
BEGIN:VEVENT
DTSTART;TZID=Europe/Paris:20260529T193000
DTEND;TZID=Europe/Paris:20260529T210000
DTSTAMP:20260419T233901
CREATED:20260112T162634Z
LAST-MODIFIED:20260128T161306Z
UID:945-1780083000-1780088400@melodic-motion.dance
SUMMARY:Atelier : Micro-musicalité
DESCRIPTION:🎶 Atelier de West Coast Swing : Micro-musicalité ! 💃🕺 \nVous avez envie de mieux danser avec la musique ? Venez booster votre créativité en apprenant à mettre en avant la musique avec vos mouvements. \n👉 Quand ? Le vendredi 29 mai\, de 19h30 à 21h\n👉 Où ? Espace Lucien-Blazy\, 7 places des fêtes\, Colomiers\, 31770 France\n👉 Prix ? 15€ par personne \n✨ Au programme : \n    Utiliser ses mouvements pour souligner des moments marquants de la musique\n    Faire correspondre ses mouvements à l’intention musicale \nEt ce n’est pas tout ! 🎉 Après l’atelier\, rejoignez-nous pour une pratique ouverte à tous\, où vous pourrez mettre en application ce que vous avez appris. \n📩 Réservez votre place dès maintenant ci-dessous ou contactez-nous pour plus d’informations. \nPartagez cet événement avec vos amis danseurs et venez swinguer avec nous ! 🕺💃
URL:https://melodic-motion.dance/index.php/event/atelier-micro-musicalite/
LOCATION:Fédération Associative Columérine\, 7 places des fêtes\, Colomiers\, 31770\, France
CATEGORIES:Melodic-Motion
ATTACH;FMTTYPE=image/png:https://melodic-motion.dance/wp-content/uploads/2026/01/atelier_29_mai.png
END:VEVENT
BEGIN:VEVENT
DTSTART;TZID=Europe/Paris:20260529T210000
DTEND;TZID=Europe/Paris:20260529T230000
DTSTAMP:20260419T233901
CREATED:20260112T163253Z
LAST-MODIFIED:20260112T163253Z
UID:951-1780088400-1780095600@melodic-motion.dance
SUMMARY:Pratique Dansante West Coast Swing
DESCRIPTION:✨ Pratique Dansante de West Coast Swing – Tous niveaux bienvenus ! ✨ \nVous avez envie de pratiquer le West Coast Swing dans une ambiance conviviale et bienveillante ? Que vous soyez débutant ou déjà à l’aise sur la piste\, cette pratique est faite pour vous ! 💃🕺 \nLa pratique dansante\, c’est comme une soirée avec le choix de danser pour s’amuser ou bien de réviser ses cours avec d’autres danseurs.\nÀ très vite sur la piste ! 👟✨ \n#WestCoastSwing #PratiqueDansante #DébutantsBienvenus #Danse #SoiréeFun
URL:https://melodic-motion.dance/index.php/event/pratique-dansante-west-coast-swing-14/
CATEGORIES:Melodic-Motion
ATTACH;FMTTYPE=image/png:https://melodic-motion.dance/wp-content/uploads/2026/01/29_mai.png
END:VEVENT
BEGIN:VEVENT
DTSTART;TZID=Europe/Paris:20260602T200000
DTEND;TZID=Europe/Paris:20260602T220000
DTSTAMP:20260419T233901
CREATED:20260401T150138Z
LAST-MODIFIED:20260401T183528Z
UID:1144-1780430400-1780437600@melodic-motion.dance
SUMMARY:Module WCS "Spectacle de fin d'année"
DESCRIPTION:✨ Envie de monter sur scène et de vivre une expérience unique ? ✨ \nRejoignez-nous pour un module chorégraphique en West Coast Swing et préparez un véritable mini spectacle de fin d’année pour la soirée de l’association Rêve de Danse 💃🕺 \n🎯 Au programme : \nApprentissage d’une chorégraphie accessible dès 8 mois de pratique\n2 sessions d’entraînement de 2h :\n📅 Mardi 2 juin & mardi 9 juin — 20h à 22h \n🎉 Représentation finale en public : samedi 13 juin \n👯 Inscription en duo obligatoire\n💰 Tarif : 30€ par personne\, paiement sur place en chèque ou espèces \n🔥 Une super occasion de progresser\, partager et briller sur scène dans une ambiance conviviale ! \n➡️ Prêts à relever le défi ? Rejoignez-nous !
URL:https://melodic-motion.dance/index.php/event/module-wcs-spectacle-de-fin-dannee/
LOCATION:Salle Saphir\, 11 Chemin de Bordeblanques\, Colomiers\, 31770
CATEGORIES:Melodic-Motion
ATTACH;FMTTYPE=image/png:https://melodic-motion.dance/wp-content/uploads/2026/04/affiche-2026_chore-1.png
END:VEVENT
BEGIN:VEVENT
DTSTART;TZID=Europe/Paris:20260605T200000
DTEND;TZID=Europe/Paris:20260605T230000
DTSTAMP:20260419T233901
CREATED:20260111T100227Z
LAST-MODIFIED:20260111T100340Z
UID:912-1780689600-1780700400@melodic-motion.dance
SUMMARY:Pratique Dansante West Coast Swing
DESCRIPTION:✨ Pratique Dansante de West Coast Swing – Tous niveaux bienvenus ! ✨ \nVous avez envie de pratiquer le West Coast Swing dans une ambiance conviviale et bienveillante ? Que vous soyez débutant ou déjà à l’aise sur la piste\, cette pratique est faite pour vous ! 💃🕺 \nLa pratique dansante\, c’est comme une soirée avec le choix de danser pour s’amuser ou bien de réviser ses cours avec d’autres danseurs.\nÀ très vite sur la piste ! 👟✨ \n#WestCoastSwing #PratiqueDansante #DébutantsBienvenus #Danse #SoiréeFun
URL:https://melodic-motion.dance/index.php/event/pratique-dansante-west-coast-swing-9/
LOCATION:Fédération Associative Columérine\, 7 places des fêtes\, Colomiers\, 31770\, France
CATEGORIES:Melodic-Motion
ATTACH;FMTTYPE=image/png:https://melodic-motion.dance/wp-content/uploads/2026/01/5_juin.png
END:VEVENT
END:VCALENDAR