BEGIN:VCALENDAR
VERSION:2.0
PRODID:-//Melodic Motion - ECPv6.7.1//NONSGML v1.0//EN
CALSCALE:GREGORIAN
METHOD:PUBLISH
X-ORIGINAL-URL:https://melodic-motion.dance
X-WR-CALDESC:Évènements pour Melodic Motion
REFRESH-INTERVAL;VALUE=DURATION:PT1H
X-Robots-Tag:noindex
X-PUBLISHED-TTL:PT1H
BEGIN:VTIMEZONE
TZID:Europe/Paris
BEGIN:DAYLIGHT
TZOFFSETFROM:+0100
TZOFFSETTO:+0200
TZNAME:CEST
DTSTART:20240331T010000
END:DAYLIGHT
BEGIN:STANDARD
TZOFFSETFROM:+0200
TZOFFSETTO:+0100
TZNAME:CET
DTSTART:20241027T010000
END:STANDARD
END:VTIMEZONE
BEGIN:VEVENT
DTSTART;TZID=Europe/Paris:20241220T200000
DTEND;TZID=Europe/Paris:20241220T220000
DTSTAMP:20260423T055832
CREATED:20241202T171844Z
LAST-MODIFIED:20241202T171856Z
UID:333-1734724800-1734732000@melodic-motion.dance
SUMMARY:Pratique Dansante West Coast Swing
DESCRIPTION:✨ Pratique Dansante de West Coast Swing – Tous niveaux bienvenus ! ✨ \nVous avez envie de pratiquer le West Coast Swing dans une ambiance conviviale et bienveillante ? Que vous soyez débutant(e) ou déjà à l’aise sur la piste\, cette pratique est faite pour vous ! 💃🕺 \n✨ Pratique spécialement conçue pour les débutants qui ont commencé en septembre ! C’est l’occasion idéale pour renforcer vos acquis et progresser dans une ambiance bienveillante. ✨ \n🔹 Au programme :\nUne playlist spécialement conçue pour Noël 🤩\nDeux professeurs présents pour danser avec vous et répondre à toutes vos questions 🎶\nAccessoires de Noël bienvenus🎄 \nÀ très vite sur la piste ! 👟✨ \nInscriptions ci-dessous
URL:https://melodic-motion.dance/index.php/event/pratique-dansante-west-coast-swing-noel-2024/
LOCATION:Fédération Associative Columérine\, 7 places des fêtes\, Colomiers\, 31770\, France
CATEGORIES:Melodic-Motion
ATTACH;FMTTYPE=image/png:https://melodic-motion.dance/wp-content/uploads/2024/12/affiche_noel_2024.png
END:VEVENT
END:VCALENDAR